{"text_format":"3","workbook":"xlsx","n_sheets":1,"sheets":["Sheet1"],"not_rendered":{"external_links":1},"read":"whole","date_system":"1900"}

{"sheet":"Sheet1","index":0,"n_rows":102,"n_cols":10,"rows_kept":102,"merged":[[0,0,0,9]]}
["2022年青岛西海岸新区公开招聘非事业编制幼儿教师面试总成绩"]
["序号","姓名","报名编号","岗位","说课成绩","技能测试成绩","总成绩","是否进入考察范围","是否等额考察人员","备注"]
[1,"孙文琪",{"$f":"VLOOKUP(B3,[1]Sheet1!$A$1:$G$65536,7,0)","v":"253158098129290843"},"幼儿教师职位一",82.66,83.92,83.29,"Y","是"]
[2,"段翠萍",{"$f":"VLOOKUP(B4,[1]Sheet1!$A$1:$G$65536,7,0)","v":"252371065328886458"},"幼儿教师职位一",78.5,76.32,77.41,"Y","是"]
[3,"吴亚琼",{"$f":"VLOOKUP(B5,[1]Sheet1!$A$1:$G$65536,7,0)","v":"252753694964221173"},"幼儿教师职位一",78.02,74.26,76.14,"Y"]
[4,"李奕侬",{"$f":"VLOOKUP(B6,[1]Sheet1!$A$1:$G$65536,7,0)","v":"252410272323646034"},"幼儿教师职位一",70.2,74.5,72.35]
[5,"殷晓玲",{"$f":"VLOOKUP(B7,[1]Sheet1!$A$1:$G$65536,7,0)","v":"252411769375671153"},"幼儿教师职位一",67.24,63.44,65.34]
[6,"刘震",{"$f":"VLOOKUP(B8,[1]Sheet1!$A$1:$G$65536,7,0)","v":"253135061325597462"},"幼儿教师职位一",0,0,0]
[7,"李海飞",{"$f":"VLOOKUP(B9,[1]Sheet1!$A$1:$G$65536,7,0)","v":"252385687473717809"},"幼儿教师职位二",76.62,65.76,71.19,"Y","是"]
[8,"袁华琪",{"$f":"VLOOKUP(B10,[1]Sheet1!$A$1:$G$65536,7,0)","v":"252485282673406707"},"幼儿教师职位二",71.5,66.28,68.89,"Y","是"]
[9,"崔成鑫",{"$f":"VLOOKUP(B11,[1]Sheet1!$A$1:$G$65536,7,0)","v":"253176601091667724"},"幼儿教师职位二",61.84,59.14,60.49]
[10,"王盼",{"$f":"VLOOKUP(B12,[1]Sheet1!$A$1:$G$65536,7,0)","v":"252369598622626478"},"幼儿教师职位三",59.72,58.22,58.97]
[11,"亓习娟",{"$f":"VLOOKUP(B13,[1]Sheet1!$A$1:$G$65536,7,0)","v":"252410114160714595"},"幼儿教师职位四",{"$nulls":5},"缺考"]
[12,"张磊",{"$f":"VLOOKUP(B14,[1]Sheet1!$A$1:$G$65536,7,0)","v":"252399528031011664"},"幼儿教师职位五",80.36,77.06,78.71,"Y","是"]
[13,"董如月",{"$f":"VLOOKUP(B15,[1]Sheet1!$A$1:$G$65536,7,0)","v":"252744457454253400"},"幼儿教师职位五",78.08,73.44,75.76,"Y","是"]
[14,"赵英淇",{"$f":"VLOOKUP(B16,[1]Sheet1!$A$1:$G$65536,7,0)","v":"252516285240444240"},"幼儿教师职位五",78.5,73,75.75,"Y","是"]
[15,"徐可",{"$f":"VLOOKUP(B17,[1]Sheet1!$A$1:$G$65536,7,0)","v":"252880913573282829"},"幼儿教师职位五",74.02,70.66,72.34,"Y","是"]
[16,"张茹",{"$f":"VLOOKUP(B18,[1]Sheet1!$A$1:$G$65536,7,0)","v":"252841668527687146"},"幼儿教师职位五",73.82,65.04,69.43,"Y"]
[17,"王莉",{"$f":"VLOOKUP(B19,[1]Sheet1!$A$1:$G$65536,7,0)","v":"252557917629371279"},"幼儿教师职位五",69.78,64.72,67.25,"Y"]
[18,"杨祥玲",{"$f":"VLOOKUP(B20,[1]Sheet1!$A$1:$G$65536,7,0)","v":"252528508201583778"},"幼儿教师职位五",64.62,58.3,61.46]
[19,"孙铭璐",{"$f":"VLOOKUP(B21,[1]Sheet1!$A$1:$G$65536,7,0)","v":"252893624973563250"},"幼儿教师职位五",0,0,0]
[20,"黄亚男",{"$f":"VLOOKUP(B22,[1]Sheet1!$A$1:$G$65536,7,0)","v":"252891019820111048"},"幼儿教师职位五",{"$nulls":5},"缺考"]
[21,"吕一炎",{"$f":"VLOOKUP(B23,[1]Sheet1!$A$1:$G$65536,7,0)","v":"253087895802590644"},"幼儿教师职位五",{"$nulls":5},"缺考"]
[22,"李佳蓉",{"$f":"VLOOKUP(B24,[1]Sheet1!$A$1:$G$65536,7,0)","v":"252882797256184849"},"幼儿教师职位六",81.88,87.1,84.49,"Y","是"]
[23,"赵荣",{"$f":"VLOOKUP(B25,[1]Sheet1!$A$1:$G$65536,7,0)","v":"252935813074191382"},"幼儿教师职位六",57.86,57.4,57.63]
[24,"尚梦圆",{"$f":"VLOOKUP(B26,[1]Sheet1!$A$1:$G$65536,7,0)","v":"252922278424344497"},"幼儿教师职位七",80.1,86.4,83.25,"Y","是"]
[25,"陈祥玲",{"$f":"VLOOKUP(B27,[1]Sheet1!$A$1:$G$65536,7,0)","v":"252399344760840729"},"幼儿教师职位八",74.32,71.2,72.76,"Y","是"]
[26,"张慧",{"$f":"VLOOKUP(B28,[1]Sheet1!$A$1:$G$65536,7,0)","v":"252883408231991290"},"幼儿教师职位八",72.92,65.76,69.34,"Y","是"]
[27,"厉阳",{"$f":"VLOOKUP(B29,[1]Sheet1!$A$1:$G$65536,7,0)","v":"253108906782524982"},"幼儿教师职位九",82.68,84.24,83.46,"Y","是"]
[28,"何恬恬",{"$f":"VLOOKUP(B30,[1]Sheet1!$A$1:$G$65536,7,0)","v":"252838531532310198"},"幼儿教师职位九",67.88,65.76,66.82,"Y"]
[29,"刘桂梅",{"$f":"VLOOKUP(B31,[1]Sheet1!$A$1:$G$65536,7,0)","v":"252740970452510050"},"幼儿教师职位九",57.72,54.36,56.04]
[30,"肖琳",{"$f":"VLOOKUP(B32,[1]Sheet1!$A$1:$G$65536,7,0)","v":"252826035836585434"},"幼儿教师职位十",78.68,77.82,78.25,"Y","是"]
[31,"魏杰",{"$f":"VLOOKUP(B33,[1]Sheet1!$A$1:$G$65536,7,0)","v":"252448086096532195"},"幼儿教师职位十",72.64,67.2,69.92,"Y","是"]
[32,"王文红",{"$f":"VLOOKUP(B34,[1]Sheet1!$A$1:$G$65536,7,0)","v":"252920488379184802"},"幼儿教师职位十",63.6,62.82,63.21,"Y"]
[33,"冯薇涵",{"$f":"VLOOKUP(B35,[1]Sheet1!$A$1:$G$65536,7,0)","v":"252788153218433945"},"幼儿教师职位十",62.64,56.62,59.63]
[34,"李国庆",{"$f":"VLOOKUP(B36,[1]Sheet1!$A$1:$G$65536,7,0)","v":"252421793103627631"},"幼儿教师职位十",{"$nulls":5},"缺考"]
[35,"周荻",{"$f":"VLOOKUP(B37,[1]Sheet1!$A$1:$G$65536,7,0)","v":"253132946175846181"},"幼儿教师职位十",{"$nulls":5},"缺考"]
[36,"庄元",{"$f":"VLOOKUP(B38,[1]Sheet1!$A$1:$G$65536,7,0)","v":"252424613521425196"},"幼儿教师职位十一",84.38,82.84,83.61,"Y","是"]
[37,"沈悦",{"$f":"VLOOKUP(B39,[1]Sheet1!$A$1:$G$65536,7,0)","v":"252420186018357751"},"幼儿教师职位十一",79.58,78.2,78.89,"Y","是"]
[38,"郝龙洁",{"$f":"VLOOKUP(B40,[1]Sheet1!$A$1:$G$65536,7,0)","v":"252428136665473913"},"幼儿教师职位十一",78.32,77.6,77.96,"Y","是"]
[39,"张翠娟",{"$f":"VLOOKUP(B41,[1]Sheet1!$A$1:$G$65536,7,0)","v":"252915591453807640"},"幼儿教师职位十一",74.7,73.58,74.14,"Y"]
[40,"赵晓宇",{"$f":"VLOOKUP(B42,[1]Sheet1!$A$1:$G$65536,7,0)","v":"252381687684686556"},"幼儿教师职位十一",71.42,65.08,68.25,"Y"]
[41,"迟莉娜",{"$f":"VLOOKUP(B43,[1]Sheet1!$A$1:$G$65536,7,0)","v":"253110557090132253"},"幼儿教师职位十一",66.16,58.86,62.51]
[42,"韩茂香",{"$f":"VLOOKUP(B44,[1]Sheet1!$A$1:$G$65536,7,0)","v":"252893222244881777"},"幼儿教师职位十一",61.92,59.86,60.89]
[43,"王凤梅",{"$f":"VLOOKUP(B45,[1]Sheet1!$A$1:$G$65536,7,0)","v":"252512110507148168"},"幼儿教师职位十一",62.04,58.2,60.12]
[44,"董仁翠",{"$f":"VLOOKUP(B46,[1]Sheet1!$A$1:$G$65536,7,0)","v":"252819887817483855"},"幼儿教师职位十一",60.54,57.16,58.85]
[45,"薛孟宇",{"$f":"VLOOKUP(B47,[1]Sheet1!$A$1:$G$65536,7,0)","v":"253165477415785925"},"幼儿教师职位十一",58.42,57.02,57.72]
[46,"孙嘉骏",{"$f":"VLOOKUP(B48,[1]Sheet1!$A$1:$G$65536,7,0)","v":"252428654355923853"},"幼儿教师职位十一",{"$nulls":5},"缺考"]
[47,"徐长娜",{"$f":"VLOOKUP(B49,[1]Sheet1!$A$1:$G$65536,7,0)","v":"252401215147790981"},"幼儿教师职位十二",81.6,84,82.8,"Y","是"]
[48,"张婷婷",{"$f":"VLOOKUP(B50,[1]Sheet1!$A$1:$G$65536,7,0)","v":"252566497455715160"},"幼儿教师职位十二",84.4,80.4,82.4,"Y","是"]
[49,"张小雪",{"$f":"VLOOKUP(B51,[1]Sheet1!$A$1:$G$65536,7,0)","v":"252399559798572322"},"幼儿教师职位十二",74.8,76.6,75.7,"Y","是"]
[50,"柳超",{"$f":"VLOOKUP(B52,[1]Sheet1!$A$1:$G$65536,7,0)","v":"252888979437970508"},"幼儿教师职位十二",79.6,65.6,72.6,"Y","是"]
[51,"高凤霞",{"$f":"VLOOKUP(B53,[1]Sheet1!$A$1:$G$65536,7,0)","v":"252367112687993909"},"幼儿教师职位十二",74,67.8,70.9,"Y"]
[52,"薛亚迪",{"$f":"VLOOKUP(B54,[1]Sheet1!$A$1:$G$65536,7,0)","v":"252748102245790890"},"幼儿教师职位十二",76.6,64.4,70.5,"Y"]
[53,"张文娜",{"$f":"VLOOKUP(B55,[1]Sheet1!$A$1:$G$65536,7,0)","v":"252875715131886198"},"幼儿教师职位十二",75.2,64.6,69.9]
[54,"王珂",{"$f":"VLOOKUP(B56,[1]Sheet1!$A$1:$G$65536,7,0)","v":"252853160841004333"},"幼儿教师职位十二",{"$nulls":5},"缺考"]
[55,"田晓菲",{"$f":"VLOOKUP(B57,[1]Sheet1!$A$1:$G$65536,7,0)","v":"252510784943514474"},"幼儿教师职位十三",83.3,82.64,82.97,"Y","是"]
[56,"李英超",{"$f":"VLOOKUP(B58,[1]Sheet1!$A$1:$G$65536,7,0)","v":"253068332385851308"},"幼儿教师职位十三",75.64,78.46,77.05,"Y","是"]
[57,"李怡璇",{"$f":"VLOOKUP(B59,[1]Sheet1!$A$1:$G$65536,7,0)","v":"252413832599921319"},"幼儿教师职位十三",68.8,71.22,70.01,"Y","是"]
[58,"夏文丽",{"$f":"VLOOKUP(B60,[1]Sheet1!$A$1:$G$65536,7,0)","v":"252901353649845665"},"幼儿教师职位十三",55.8,54.4,55.1]
[59,"陈岩",{"$f":"VLOOKUP(B61,[1]Sheet1!$A$1:$G$65536,7,0)","v":"252886072781064835"},"幼儿教师职位十四",58.8,56.6,57.7]
[60,"毕竞仁",{"$f":"VLOOKUP(B62,[1]Sheet1!$A$1:$G$65536,7,0)","v":"253177094560016114"},"幼儿教师职位十四",{"$nulls":5},"缺考"]
[61,"张小燕",{"$f":"VLOOKUP(B63,[1]Sheet1!$A$1:$G$65536,7,0)","v":"253056020908234665"},"幼儿教师职位十五",66.6,57.4,62]
[62,"王瑶瑶",{"$f":"VLOOKUP(B64,[1]Sheet1!$A$1:$G$65536,7,0)","v":"252738772981122635"},"幼儿教师职位十五",56.2,59,57.6]
[63,"董凡",{"$f":"VLOOKUP(B65,[1]Sheet1!$A$1:$G$65536,7,0)","v":"252423997294269421"},"幼儿教师职位十六",64.8,56.6,60.7]
[64,"王群",{"$f":"VLOOKUP(B66,[1]Sheet1!$A$1:$G$65536,7,0)","v":"252771861778330471"},"幼儿教师职位十六",62,56.4,59.2]
[65,"管沙",{"$f":"VLOOKUP(B67,[1]Sheet1!$A$1:$G$65536,7,0)","v":"253095983523759154"},"幼儿教师职位十六",58.2,57.2,57.7]
[66,"张宁",{"$f":"VLOOKUP(B68,[1]Sheet1!$A$1:$G$65536,7,0)","v":"253060289602410410"},"幼儿教师职位十六",58.4,55.8,57.1]
[67,"邵璐",{"$f":"VLOOKUP(B69,[1]Sheet1!$A$1:$G$65536,7,0)","v":"253187992154429479"},"幼儿教师职位十六",{"$nulls":5},"缺考"]
[68,"宗格格",{"$f":"VLOOKUP(B70,[1]Sheet1!$A$1:$G$65536,7,0)","v":"252516794638783537"},"幼儿教师职位十七",81.6,76.8,79.2,"Y","是"]
[69,"李静茹",{"$f":"VLOOKUP(B71,[1]Sheet1!$A$1:$G$65536,7,0)","v":"253109272613918119"},"幼儿教师职位十七",80.6,73.6,77.1,"Y","是"]
[70,"刘雨婷",{"$f":"VLOOKUP(B72,[1]Sheet1!$A$1:$G$65536,7,0)","v":"252921353743763467"},"幼儿教师职位十七",71,61.8,66.4,"Y","是"]
[71,"张贺男",{"$f":"VLOOKUP(B73,[1]Sheet1!$A$1:$G$65536,7,0)","v":"252925489726002553"},"幼儿教师职位十七",70.8,57.8,64.3]
[72,"张海霞",{"$f":"VLOOKUP(B74,[1]Sheet1!$A$1:$G$65536,7,0)","v":"253131740682647551"},"幼儿教师职位十七",71.6,51.8,61.7]
[73,"朱宝艳",{"$f":"VLOOKUP(B75,[1]Sheet1!$A$1:$G$65536,7,0)","v":"252937039757174422"},"幼儿教师职位十七",66.8,54.6,60.7]
[74,"苏瑞悦",{"$f":"VLOOKUP(B76,[1]Sheet1!$A$1:$G$65536,7,0)","v":"252901853208204757"},"幼儿教师职位十七",63.6,55.4,59.5]
[75,"王宁萍",{"$f":"VLOOKUP(B77,[1]Sheet1!$A$1:$G$65536,7,0)","v":"252883510963096187"},"幼儿教师职位十七",59,57.6,58.3]
[76,"朱西",{"$f":"VLOOKUP(B78,[1]Sheet1!$A$1:$G$65536,7,0)","v":"253135879617569937"},"幼儿教师职位十七",55,51.8,53.4]
[77,"刘帅",{"$f":"VLOOKUP(B79,[1]Sheet1!$A$1:$G$65536,7,0)","v":"252556470804214472"},"幼儿教师职位十八",70,66.6,68.3,"Y","是"]
[78,"史先颖",{"$f":"VLOOKUP(B80,[1]Sheet1!$A$1:$G$65536,7,0)","v":"252536589408973630"},"幼儿教师职位十八",61.6,56.4,59]
[79,"姜其其",{"$f":"VLOOKUP(B81,[1]Sheet1!$A$1:$G$65536,7,0)","v":"253134790340080972"},"幼儿教师职位十九",74.8,69.6,72.2,"Y","是"]
[80,"王秋艳",{"$f":"VLOOKUP(B82,[1]Sheet1!$A$1:$G$65536,7,0)","v":"253131831854159178"},"幼儿教师职位十九",63.6,57.4,60.5]
[81,"王芮",{"$f":"VLOOKUP(B83,[1]Sheet1!$A$1:$G$65536,7,0)","v":"252420271053656740"},"幼儿教师职位二十",71.2,69.2,70.2,"Y","是"]
[82,"孟迪",{"$f":"VLOOKUP(B84,[1]Sheet1!$A$1:$G$65536,7,0)","v":"252902190518355662"},"幼儿教师职位二十",64.6,70.4,67.5,"Y","是"]
[83,"楚佩佩",{"$f":"VLOOKUP(B85,[1]Sheet1!$A$1:$G$65536,7,0)","v":"252742354933564416"},"幼儿教师职位二十",{"$nulls":5},"缺考"]
[84,"李丹丹",{"$f":"VLOOKUP(B86,[1]Sheet1!$A$1:$G$65536,7,0)","v":"253159259129439384"},"幼儿教师职位二十",{"$nulls":5},"缺考"]
[85,"刘静茹",{"$f":"VLOOKUP(B87,[1]Sheet1!$A$1:$G$65536,7,0)","v":"252455391370338944"},"幼儿教师职位二十一",59.8,58.2,59]
[86,"徐静",{"$f":"VLOOKUP(B88,[1]Sheet1!$A$1:$G$65536,7,0)","v":"252820722819458087"},"幼儿教师职位二十一",60.8,56.6,58.7]
[87,"刘爱华",{"$f":"VLOOKUP(B89,[1]Sheet1!$A$1:$G$65536,7,0)","v":"252447307008738178"},"幼儿教师职位二十二",71.2,67.8,69.5,"Y","是"]
[88,"赵德男",{"$f":"VLOOKUP(B90,[1]Sheet1!$A$1:$G$65536,7,0)","v":"252410885652509512"},"幼儿教师职位二十三",83.6,79.4,81.5,"Y","是"]
[89,"安蕾",{"$f":"VLOOKUP(B91,[1]Sheet1!$A$1:$G$65536,7,0)","v":"252880041174828043"},"幼儿教师职位二十三",79.4,77.4,78.4,"Y","是"]
[90,"徐丽丽",{"$f":"VLOOKUP(B92,[1]Sheet1!$A$1:$G$65536,7,0)","v":"252479154367480910"},"幼儿教师职位二十三",69.6,63.6,66.6,"Y","是"]
[91,"张丽娟",{"$f":"VLOOKUP(B93,[1]Sheet1!$A$1:$G$65536,7,0)","v":"253156792538960971"},"幼儿教师职位二十三",60.6,62.6,61.6,"Y"]
[92,"周巧丽",{"$f":"VLOOKUP(B94,[1]Sheet1!$A$1:$G$65536,7,0)","v":"252449994567782985"},"幼儿教师职位二十三",65,55.4,60.2]
[93,"崔甜甜",{"$f":"VLOOKUP(B95,[1]Sheet1!$A$1:$G$65536,7,0)","v":"252895809895659431"},"幼儿教师职位二十三",58.4,57.6,58]
[94,"孙瑞霞",{"$f":"VLOOKUP(B96,[1]Sheet1!$A$1:$G$65536,7,0)","v":"252514868480136154"},"幼儿教师职位二十三",56,52.6,54.3]
[95,"王瑛",{"$f":"VLOOKUP(B97,[1]Sheet1!$A$1:$G$65536,7,0)","v":"253188042616132972"},"幼儿教师职位二十三",{"$nulls":5},"缺考"]
[96,"马燕",{"$f":"VLOOKUP(B98,[1]Sheet1!$A$1:$G$65536,7,0)","v":"252891037171889403"},"幼儿教师职位二十四",66.8,54.4,60.6]
[97,"武文娜",{"$f":"VLOOKUP(B99,[1]Sheet1!$A$1:$G$65536,7,0)","v":"252533535473312712"},"幼儿教师职位二十四",59.6,54.8,57.2]
[98,"崔雪",{"$f":"VLOOKUP(B100,[1]Sheet1!$A$1:$G$65536,7,0)","v":"252740979550012473"},"幼儿教师职位二十四",58.4,54.4,56.4]
[99,"王雷",{"$f":"VLOOKUP(B101,[1]Sheet1!$A$1:$G$65536,7,0)","v":"252394890431017667"},"幼儿教师职位二十四",53.2,55,54.1]
[100,"王娜",{"$f":"VLOOKUP(B102,[1]Sheet1!$A$1:$G$65536,7,0)","v":"252432003943883654"},"幼儿教师职位二十四",{"$nulls":5},"缺考"]